Workbook

Sheet Лист1
F1: Реестр социально ориентированных некоммерческих организаций - получателей поддержки
G2: в Каменск-Уральском городском округе по состоянию на 15 ноября 2025 года
A3: =[1]Лист1!$A$4 -> Реквизиты реестровой записи | C3: =[1]Лист1!$C$4 -> Дата принятия решения об оказании поддержки или о прекра-щении оказания поддержки | D3: =[1]Лист1!$D$4 -> Сведения о социально ориентированных некоммерческих организациях - получателях государственной поддержки | I3: =[1]Лист1!$J$4 -> Сведения о предоставленной поддержке | L3: Сведения об использовании социально ориентированными некоммерческими организациями - получателей поддержки предоставленных мер государственной поддержки | M3: =[1]Лист1!$M$4 -> Информация (если имеется) о нарушениях, допущенных социально ориентированной некоммерческой организацией, получившей поддержку, в том числе о нецелевом использовании предоставленных средств и имущества | N3: Примечание
A4: =[1]Лист1!A5 -> № п/п | B4: =[1]Лист1!B5 -> дата включения в реестр | D4: =[1]Лист1!D5 -> полное и (если имеется) сокращенное наименование постоянно действующего органа некоммерческой организации, название организации | E4: =[1]Лист1!E5 -> почтовый адрес и электронный адреса, контактные телефоны, факс, фамилия, имя, отчество руководителя | F4: =[1]Лист1!F5 -> основной государственный регистрационный номер записи о государствен-ной регистрации некоммерческой организации (ОГРН) | G4: =[1]Лист1!G5 -> идентифика-ционный номер налогоплатель-щика | H4: =[1]Лист1!H5 -> виды деятельности некоммерческой организации | I4: =[1]Лист1!J5 -> вид государственной поддержки | J4: =[1]Лист1!K5 -> объем (размер) государственной поддержки, тыс. руб. | K4: =[1]Лист1!L5 -> срок оказания государственной поддержки
A5: 1 | B5: 2 | C5: 3 | D5: 4 | E5: 5 | F5: 6 | G5: 7 | H5: 8 | I5: 9 | J5: 10 | K5: 11 | L5: 12 | M5: 13 | N5: 14
A6: 1 | B6: 38596 | C6: Договор № 23 от 01.09.2020 | D6: Государственное автономное учреждение Свердловской области "Центр подготовки спортивных сборных команд Свердловской области по техническим видам спорта имени С.К. Щербинина" | E6: 623400, Свердловская область, г. Каменск-Уральский, ул. Титова, д.7, директор Щербинин Евгений Сергеевич, CTVS@egov66.ru | F6: 1036600622376 | G6: =[1]Лист1!G25 -> 6612006271 | H6: =[1]Лист1!I25 -> Подготовка сборных команд мастеров по техническим видам спорта, предоставление услуг дополнительного образования | I6: =[1]Лист1!J25 -> безвозмездное пользование муниципальным имуществом | J6: =[1]Лист1!K25 -> безвозмездное пользование муниципальным имуществом: нежилым помещением общей площадью 715,6 кв.м. | K6: 01.09.2020 -31.08.2030 | L6: Предоставлен объект муниципальной собственности в безвозмездное пользование некоммерческой организации в целях использования по целевому назначению | M6: не имеется
A9: 2 | B9: 45702 | C9: Распоряжение Администрации городского округа от 14.02.2025 № 30-р | D9: Свердловская областная общественная организация Общероссийской общественной организации инвалидов "Всероссийской ордена Трудового Красного Знамени общество слепых" | E9: =[1]Лист1!E27 -> 623400 Свердловская область г. Каменск-Уральский, ул. Парковая, 17, председатель Лагунова Тамара Тихоновна, эл. адрес:sheshina.el@yandex.ru | F9: =[1]Лист1!F27 -> 1026600004870 | G9: =[1]Лист1!G27 -> 6659016317 | H9: =[1]Лист1!$I$27 -> Защита прав и интересов инвалидов по зрению, участие в определении реализации государственной политики в отношении инвалидов, содействие в реализации государственных полномочий в медицинской, профессиональной, социальной реабилитвации и интеграции, приобщение к труду, образованию, культуре и спорту, улучшение их материально-бытовых условий | I9: субсидия на частичное возмещение расходов за 4 квартал 2024 года | J9: 6,53 руб. | K9: 1 квартал 2025 года | L9: Предоставлена субсидия из местного бюджета на возмещение финансовых затрат, связанных с осуществлением уставной деятельности социально ориентированной организации | M9: =$M$6 -> не имеется
B18: 45782 | C18: Распоряжение Администрации городского округа от 05.05.2025 № 80-р | I18: субсидия на частичное возмещение расходов за 1 квартал 2025 года | J18: 4,84 руб. | K18: 2 квартал 2025 года | L18: =$L$9 -> Предоставлена субсидия из местного бюджета на возмещение финансовых затрат, связанных с осуществлением уставной деятельности социально ориентированной организации | M18: =$M$9 -> не имеется
B19: 45870 | C19: Распоряжение Администрации городского округа от 01.08.2025 № 133-р | I19: субсидия на частичное возмещение расходов за 2 квартал 2025 года | J19: 6,76 руб. | K19: 3 квартал 2025 года | L19: =$L$18 -> Предоставлена субсидия из местного бюджета на возмещение финансовых затрат, связанных с осуществлением уставной деятельности социально ориентированной организации | M19: =$M$18 -> не имеется
B20: 45971 | C20: Распоряжение Администрации городского округа от 10.11.2025 № 191-р | I20: субсидия на частичное возмещение расходов за 3 квартал 2025 года | J20: 5,28 руб. | K20: 4 квартал 2025 года | L20: =$L$18 -> Предоставлена субсидия из местного бюджета на возмещение финансовых затрат, связанных с осуществлением уставной деятельности социально ориентированной организации | M20: =$M$19 -> не имеется
A21: 3 | B21: 44397 | C21: Договор № 9 от 20.07.2021 | D21: =[1]Лист1!D32 -> Некоммерческое партнерство "Дзюдо" | E21: =[1]Лист1!E32 -> 623400 Свердловская область г.Каменск-Уральский, ул.Белинского,1а, руководитель Тылис Сергей Петрович, эл. адрес:tylis-kerama@bk.ru | F21: =[1]Лист1!F32 -> 1086600001070 | G21: =[1]Лист1!G32 -> 6612025820 | H21: =[1]Лист1!$I$32 -> Содействие развития массовых и индивидуальных форм физкультурно-оздоровительной и спортивной работы с детьми дошкольного и школьного возраста и других возрастов населения, профилактика заболеваний, укрепление здоровья, поддержание высокой работоспособности человека, воспитание патриотизма граждан, подготовке их к защите Родины, внедрение физической культуры и спорта в режим учебы, труда и отдыха граждан и пропаганда физической культуры и спорта по каналам теле- и радиовещания. | I21: =[1]Лист1!J32 -> безвозмездное пользование муниципальным имуществом | J21: =[1]Лист1!K32 -> безвозмездное пользование муниципальным имуществом: нежилым помещением общей площадью 236,8 кв.м. | K21: 20.07.2021 -19.07.2026 | L21: =$L$6 -> Предоставлен объект муниципальной собственности в безвозмездное пользование некоммерческой организации в целях использования по целевому назначению | M21: =[1]Лист1!M32 -> не имеется
A25: 4 | B25: 44805 | C25: Договор № 12 от 01.09.2022
A26: 4 | D26: =[1]Лист1!D39 -> Негосударственное образовательное учреждение дополнительного профессионального образования Каменск-Уральская спортивно-техническая школа "Румб" Регионального отделения Общероссийскойобщественно-государственной организации "ДОСААФ" СО | E26: 623400 Свердловская область, г. Каменск-Уральский ул. Рябова, 7 , Григорьева Надежда Юрьевна, и.о. начальника | F26: =[1]Лист1!F39 -> 1026600932710 | G26: =[1]Лист1!G39 -> 6612004122 | H26: =[1]Лист1!$I$39 -> Предоставление услуг дополнительного профессионального образования, проведение занятий по спортивно-техническим видам спорта, патриотическое воспитание, подготовка к службе в армии | I26: =[1]Лист1!J39 -> безвозмездное пользование муниципальным имуществом | J26: безвозмездное пользование муниципальным имуществом: нежилым помещением площадью 979,3 кв.м., земельным участком площадью 7894 кв.м. | K26: 01.09.2022-31.08.2027 | L26: =$L$21 -> Предоставлен объект муниципальной собственности в безвозмездное пользование некоммерческой организации в целях использования по целевому назначению | M26: =[1]Лист1!M39 -> не имеется
B27: =#REF! -> #REF! | C27: =#REF! -> #REF!
A28: 5 | B28: 45082 | C28: Договор № 6 от 05.06.2023 | D28: =[1]Лист1!D40 -> Некоммерческая организация "Благотворительный фонд "Город милосердия" | E28: =[2]Лист1!$E$41 -> 623400 Свердловская область г. Каменск-Уральский, ул. Ленина, 115 Президент Дегтянников Игорь Германович | F28: =[1]Лист1!F40 -> 1056600673843 | G28: =[1]Лист1!G40 -> 6612017851 | H28: =[1]Лист1!$I$40 -> Благотворительная деятельность; оказание материальной и иной помощи всем категориям социально незащищенных лиц, независимо от их национальности, гражданства, вероисповедания; содействие деятельности в области профилактики и охраны здоровья граждан, пропаганды здорового образа жизни, улучшения морально-психологического здоровья граждан; организация необходимой медицинской и психологической помощи лицам, страдающим наркотической, алкогольной и токсической зависимостью, содействие их трудоустройству; оказание юридической помощи лицам, страдающим наркоманией, токсикоманией и алкоголизмом и членам их семей; сотрудничество с организациями всех форм собственности, гражданами и молодежными объединениями, участвующими в реализации программ Фонда; организация профилактической работы с детьми, подростками, молодежью и родителями; Организация просветительской и научно-методической работы; социальная реабилитация лиц, отбывших наказание в местах лишения свободы; забота о детях-инвалидах: помощь в реабилитации, обучении, трудоустройстве, участие в их социальной жизни; забота о детях, оставшихся без попечения родителей; создание приютов и ночлежек для бездомных и лиц, нуждающихся в помощи; оказание помощи пенсионерам лекарственными средствами и продуктами питания; оказание материальной помощи несовершеннолетним, беженцам, бездомным и другим нуждающимся; обеспечение трудовыми местами беженцев, вынужденных переселенцев и иных категорий социально незащищенных трудоспособных лиц; осуществление торгово-посреднических и иных коммерческих операций для использования полученных доходов в благотворительных целях, оговоренных в Уставе; создание хозяйственных обществ, а также участие в них; издательская деятельность; организация культурных, спортивных, развлекательных и иных массовых мероприятий | I28: =[1]Лист1!J40 -> безвозмездное пользование муниципальным имуществом | J28: =[1]Лист1!K40 -> безвозмездное пользование муниципальным имуществом: нежилым помещением общей площадью 250,1 кв.м. | K28: 08.09.2021-07.09.2026 | L28: =$L$21 -> Предоставлен объект муниципальной собственности в безвозмездное пользование некоммерческой организации в целях использования по целевому назначению | M28: =[1]Лист1!M40 -> не имеется
B29: 45057 | C29: Договор № 14 от 05.06.2024 | I29: =$I$28 -> безвозмездное пользование муниципальным имуществом | J29: безвозмездное пользование муниципальным имуществом: нежилым помещением общей площадью 283 кв.м. | K29: 05.06.2024-04.06.2027 | L29: =$L$21 -> Предоставлен объект муниципальной собственности в безвозмездное пользование некоммерческой организации в целях использования по целевому назначению | M29: =$M$28 -> не имеется
B30: 45764 | C30: =$C$44 -> Распоряжение Администрации городского округа от 17.04.2025 № 68-р | I30: =$I$44 -> субсидия на организацию и проведение социально значимого проекта | J30: 50,00 руб. | K30: 2 квартал 2025 года | L30: Реализация социально значимого проекта «Дедов достойные сыны», посвященного 80-й годовщине Победы в Великой Отечественной войне» | M30: =$M$29 -> не имеется
B31: 45782 | C31: =$C$18 -> Распоряжение Администрации городского округа от 05.05.2025 № 80-р | I31: =$I$18 -> субсидия на частичное возмещение расходов за 1 квартал 2025 года | J31: 20,00 руб. | K31: 2 квартал 2025 года | L31: =$L$9 -> Предоставлена субсидия из местного бюджета на возмещение финансовых затрат, связанных с осуществлением уставной деятельности социально ориентированной организации | M31: =$M$29 -> не имеется
B32: 45870 | C32: =$C$19 -> Распоряжение Администрации городского округа от 01.08.2025 № 133-р | I32: субсидия на частичное возмещение расходов за 2 квартал 2025 года | J32: 20,00 руб. | K32: 3 квартал 2025 года | L32: =$L$31 -> Предоставлена субсидия из местного бюджета на возмещение финансовых затрат, связанных с осуществлением уставной деятельности социально ориентированной организации | M32: =$M$31 -> не имеется
B33: 45971 | C33: =$C$20 -> Распоряжение Администрации городского округа от 10.11.2025 № 191-р | I33: =$I$20 -> субсидия на частичное возмещение расходов за 3 квартал 2025 года | J33: 15,18 руб. | K33: 4 квартал 2025 года | L33: =$L$32 -> Предоставлена субсидия из местного бюджета на возмещение финансовых затрат, связанных с осуществлением уставной деятельности социально ориентированной организации | M33: =$M$32 -> не имеется
A34: 6 | B34: =[2]Лист1!B52 -> 44651 | C34: =[2]Лист1!C52 -> Договор № 4 от 31.03.2022 | D34: =[1]Лист1!D45 -> Религиозная организация "Каменская Епархия Русской Православной Церкви (Московский Патриархат)" | E34: =[1]Лист1!E45 -> 623418 г. Каменск-Уральский, ул. Кирова,18 | F34: =[1]Лист1!F45 -> 1116699000021 | G34: =[1]Лист1!G45 -> 6612037110 | H34: =[1]Лист1!$I$45 -> религиозная деятельность | I34: =[3]Лист1!I44 -> безвозмездное пользование муниципальным имуществом | J34: безвозмездное пользование муниципальным имуществом: нежилым помещением общей площадью 166,6 кв.м. | K34: 31.03.2022-30.03.2027 | L34: =$L$21 -> Предоставлен объект муниципальной собственности в безвозмездное пользование некоммерческой организации в целях использования по целевому назначению | M34: =[3]Лист1!M44 -> не имеется
B35: =[2]Лист1!B53 -> 45063 | C35: =[2]Лист1!C53 -> Договор № 5 от 17.05.2023 | I35: =[1]Лист1!J47 -> безвозмездное пользование муниципальным имуществом | J35: безвозмездное ползование муниципальным имуществом, нежилым помещением общей площадью 188,5 кв.м. | K35: 17.05.2023-16.05.2028 | L35: =$L$21 -> Предоставлен объект муниципальной собственности в безвозмездное пользование некоммерческой организации в целях использования по целевому назначению | M35: =[1]Лист1!M47 -> не имеется
A36: 7 | D36: =[1]Лист1!D51 -> Каменск-Уральское отделение Межрегиональной общественной организации "Союз десантников" | E36: 623401 Свердловская область г. Каменск-Уральский Проспект Победы 38-82 председатель Давыдов Владимир Николаевич | F36: =[1]Лист1!F51 -> 1126600005256 | G36: =[1]Лист1!G51 -> 6612998731 | H36: =[1]Лист1!$I$51 -> патриотическое воспитание и содействие в подготовке граждан РФ к военной службе; социальная поддержка и защита членой организации. | I36: безвозмездное пользование муниципальным имуществом | J36: безвозмездное пользование муниципальным имуществом: нежилым помещением площадью 63 кв.м. | K36: 28.02.2020-27.02.2025 | L36: =#REF! -> #REF! | M36: не имеется
B41: 45041 | C41: Распоряжение Администрации городского округа от № 74-р
B42: 45716 | C42: Договор № 1 от 28.02.2025 | I42: =[2]Лист1!I58 -> безвозмездное пользование муниципальным имуществом | J42: =[2]Лист1!J58 -> безвозмездное пользование муниципальным имуществом: нежилым помещением площадью 63 кв.м. | K42: 28.02.2025-27.02.2030 | L42: =[2]Лист1!L58 -> Предоставлен объект муниципальной собственности в безвозмездное пользование некоммерческой организации в целях использования по целевому назначению | M42: =[2]Лист1!M58 -> не имеется
B43: 45702 | C43: Распоряжение Администрации городского округа от 26.02.2025 № 37-р | I43: =$I$9 -> субсидия на частичное возмещение расходов за 4 квартал 2024 года | J43: 20,00 руб. | K43: 1 квартал 2025 года | L43: =$L$9 -> Предоставлена субсидия из местного бюджета на возмещение финансовых затрат, связанных с осуществлением уставной деятельности социально ориентированной организации | M43: =$M$42 -> не имеется
B44: 45764 | C44: =$C$69 -> Распоряжение Администрации городского округа от 17.04.2025 № 68-р | I44: =$I$69 -> субсидия на организацию и проведение социально значимого проекта | J44: 49,99 руб. | K44: 2 квартал 2025 года | L44: Реализация социально значимого проекта «Сыны Отчизны» | M44: =$M$43 -> не имеется
B45: 45782 | C45: =$C$31 -> Распоряжение Администрации городского округа от 05.05.2025 № 80-р | I45: =$I$31 -> субсидия на частичное возмещение расходов за 1 квартал 2025 года | J45: 20,00 руб. | K45: =K31 -> 2 квартал 2025 года | L45: =L31 -> Предоставлена субсидия из местного бюджета на возмещение финансовых затрат, связанных с осуществлением уставной деятельности социально ориентированной организации | M45: =M31 -> не имеется
B46: 45870 | C46: =$C$32 -> Распоряжение Администрации городского округа от 01.08.2025 № 133-р | I46: субсидия на частичное возмещение расходов за 2 квартал 2025 года | J46: 20,00 руб. | K46: 3 квартал 2025 года | L46: =$L$45 -> Предоставлена субсидия из местного бюджета на возмещение финансовых затрат, связанных с осуществлением уставной деятельности социально ориентированной организации | M46: =$M$45 -> не имеется
B47: 45971 | C47: =$C$33 -> Распоряжение Администрации городского округа от 10.11.2025 № 191-р | I47: =$I$33 -> субсидия на частичное возмещение расходов за 3 квартал 2025 года | J47: 17,26 руб. | K47: 4 квартал 2025 года | L47: =$L$46 -> Предоставлена субсидия из местного бюджета на возмещение финансовых затрат, связанных с осуществлением уставной деятельности социально ориентированной организации | M47: =$M$46 -> не имеется
A48: 8 | B48: =[2]Лист1!B69 -> 45063 | C48: =[2]Лист1!C69 -> Договор № 4 от 17.05.2023 | D48: =[1]Лист1!D88 -> Свердловская региональная общественная организация социальной поддержки уязвимых людей «Источник добра» | E48: =[1]Лист1!E88 -> 623414 Свердловская область г. Каменск-Уральский ул. Клубная, 10а, руководитель Бурко Евгений Юрьевич | F48: =[1]Лист1!F88 -> 1126600003122 | G48: =[1]Лист1!G88 -> 6612998717 | H48: =[1]Лист1!$I$88 -> Содействие пожилым и малообеспеченным людям, членам неблагополучных семей, детям-инвалидам, многодетным семьям и людям, оказавшимся в трудной жизненной ситуации, в предупреждении и облегчении их страданий; содействие уязвимым людям в удовлетворении их разносторонних творческих, познавательных, информационных и иных духовных потребностей, в повышении их интеллектуального и культурного уровня и духовного развития личности; содействие уязвимым людям в вопросах защиты жизни, охраны здоровья, улучшения морально-психологического состояния, оптимизация внутреннего потенциала и приобщения к здоровому образу жизни, содействие уязвимым людям в организации досуга и отдыха, в повышении их жизненной активности, в расширении их круга общения и увеличения количества социальных связей; защита прав и законных интересов членов организации. | I48: =$I$36 -> безвозмездное пользование муниципальным имуществом | J48: безвозмездное пользование муниципальным имуществом: нежилым помещением общей площадью 26,4 кв.м. | K48: 17.05.2023-16.05.2028 | L48: =$L$21 -> Предоставлен объект муниципальной собственности в безвозмездное пользование некоммерческой организации в целях использования по целевому назначению | M48: не имеется
I49: =$I$48 -> безвозмездное пользование муниципальным имуществом | J49: безвозмездное пользование мунципальным имуществом: нежилым помещением общей площадью 59,8 кв.м. | K49: 07.11.2020-06.11.2025 | L49: =$L$48 -> Предоставлен объект муниципальной собственности в безвозмездное пользование некоммерческой организации в целях использования по целевому назначению | M49: не имеется
B54: 45057 | C54: =$C$42 -> Договор № 1 от 28.02.2025
B55: 45968 | C55: Договор № 10 от 07.11.2025 | I55: =[2]Лист1!I71 -> безвозмездное пользование муниципальным имуществом | J55: =[2]Лист1!$J$71 -> безвозмездное пользование мунципальным имуществом: нежилым помещением общей площадью 59,8 кв.м. | K55: 07.11.2025-06.11.2030 | L55: =[2]Лист1!L71 -> Предоставлен объект муниципальной собственности в безвозмездное пользование некоммерческой организации в целях использования по целевому назначению | M55: =[2]Лист1!M71 -> не имеется
B56: 45702 | C56: =$C$43 -> Распоряжение Администрации городского округа от 26.02.2025 № 37-р | I56: =$I$9 -> субсидия на частичное возмещение расходов за 4 квартал 2024 года | J56: 20,00 руб. | K56: 1 квартал 2025 года | L56: =$L$59 -> Предоставлена субсидия из местного бюджета на возмещение финансовых затрат, связанных с осуществлением уставной деятельности социально ориентированной организации | M56: =$M$55 -> не имеется
B57: 45764 | C57: =$C$44 -> Распоряжение Администрации городского округа от 17.04.2025 № 68-р | I57: =$I$44 -> субсидия на организацию и проведение социально значимого проекта | J57: 50,00 руб. | K57: 2 квартал 2025 года | L57: Реализация социально значимого проекта «Подари жизнь», посвященного Всемирному дню донора крови» | M57: =$M$56 -> не имеется
B58: 45782 | C58: =$C$45 -> Распоряжение Администрации городского округа от 05.05.2025 № 80-р | I58: =$I$45 -> субсидия на частичное возмещение расходов за 1 квартал 2025 года | J58: =J43 -> 20,00 руб. | K58: 2 квартал 2025 года | L58: =$L$59 -> Предоставлена субсидия из местного бюджета на возмещение финансовых затрат, связанных с осуществлением уставной деятельности социально ориентированной организации | M58: =$M$60 -> не имеется
B59: 45870 | C59: =$C$46 -> Распоряжение Администрации городского округа от 01.08.2025 № 133-р | I59: =$I$46 -> субсидия на частичное возмещение расходов за 2 квартал 2025 года | J59: 10,86 руб. | K59: 3 квартал 2025 года | L59: =$L$9 -> Предоставлена субсидия из местного бюджета на возмещение финансовых затрат, связанных с осуществлением уставной деятельности социально ориентированной организации | M59: =$M$60 -> не имеется
B60: 45971 | C60: =$C$33 -> Распоряжение Администрации городского округа от 10.11.2025 № 191-р | I60: =$I$47 -> субсидия на частичное возмещение расходов за 3 квартал 2025 года | J60: 7,32 руб. | K60: 4 квартал 2025 года | L60: =$L$59 -> Предоставлена субсидия из местного бюджета на возмещение финансовых затрат, связанных с осуществлением уставной деятельности социально ориентированной организации | M60: =$M$55 -> не имеется
A61: 9 | D61: Каменск-Уральская городская просветительская общественная организация «Общество Знание» | E61: 623400, Свердловская область, г. Каменск-Уральский, ул. Ленина, 36. Председатель Общества Бекленищева Анастасия Михайловна, znanie_kamensk@mail.ru | F61: =[1]Лист1!F93 -> 1036605620589 | G61: =[1]Лист1!G93 -> 6612001202 | H61: =[1]Лист1!$I$93 -> Образовательная, просветительская, информационная, разъяснительная и консалтинговая деятельность для удовлетворения разносторонних образовательных, профессиональных, познавательных, культурных и других потребностей населения; содействие всесторонней модернизации экономики, основанной на ценностях и институтах демократии, производящей уникальные знания, вещи и технологии, полезные людям; содействие достижению Российской Федерации высокого уровня в экономической, социальной, научно-технической сферах, в построении гражданского общества через распространение научных знаний и проведение в широких масштабах просветительской и образовательной работы; повышение профессиональных знаний специалистов, совершенствования их деловых качеств, подготовки их к выполнению новых трудовых функций; повышение средствами просветительской работы гуманитарной и духовно-нравственной культуры народов России; благотворительная и социально-значимая деятельность. | I61: =$I$49 -> безвозмездное пользование муниципальным имуществом | J61: безвозмездное пользование муниципальным имуществом: нежилым помещением общей площадью 16,4 кв.м. | K61: 19.07.2023-18.07.2028 | L61: =$L$49 -> Предоставлен объект муниципальной собственности в безвозмездное пользование некоммерческой организации в целях использования по целевому назначению | M61: =$M$49 -> не имеется
...

Sheet Лист2

Sheet Лист3
